Workbook

Sheet answers
A1: Student Name | C1: Student ID
A2: The stocks for your analysis
A3: Question 1
B4: Excess Return | E4: Excess Return
A6: Date | Name | B6: =data!$D$1 -> Bank of America | C6: =data!$E$1 -> P&G | E6: S&P 500
A7: 200801 | B7: =data!D2-data!H2 -> 0.033499802 | C7: =data!E2-data!H2 -> -0.11746867 | E7: =data!G2-data!H2 -> -0.065213864
A8: 200802 | B8: =data!D3-data!H3 -> -0.047002751 | C8: =data!E3-data!H3 -> 0.015284508 | E8: =data!G3-data!H3 -> -0.03667974
A9: 200803 | B9: =data!D4-data!H4 -> -0.022173986 | C9: =data!E4-data!H4 -> 0.055416608 | E9: =data!G4-data!H4 -> -0.007677453
A10: 200804 | B10: =data!D5-data!H5 -> 0.0012675235 | C10: =data!E5-data!H5 -> -0.045756085 | E10: =data!G5-data!H5 -> 0.044750952
A11: 200805 | B11: =data!D6-data!H6 -> -0.044587662 | C11: =data!E6-data!H6 -> -0.011014924 | E11: =data!G6-data!H6 -> 0.0089176148
A12: 200806 | B12: =data!D7-data!H7 -> -0.15545414 | C12: =data!E7-data!H7 -> -0.084357667 | E12: =data!G7-data!H7 -> -0.091583554
A13: 200807 | B13: =data!D8-data!H8 -> 0.14626896 | C13: =data!E8-data!H8 -> 0.072490759 | E13: =data!G8-data!H8 -> -0.011408297
A14: 200808 | B14: =data!D9-data!H9 -> -0.025077327 | C14: =data!E9-data!H9 -> 0.068494661 | E14: =data!G9-data!H9 -> 0.010916759
A15: 200809 | B15: =data!D10-data!H10 -> 0.049249538 | C15: =data!E10-data!H10 -> -0.0026473779 | E15: =data!G10-data!H10 -> -0.096680765
A16: 200810 | B16: =data!D11-data!H11 -> -0.15298858 | C16: =data!E11-data!H11 -> -0.077571665 | E16: =data!G11-data!H11 -> -0.18643647
A17: 200811 | B17: =data!D12-data!H12 -> -0.17262344 | C17: =data!E12-data!H12 -> 0.0032250334 | E17: =data!G12-data!H12 -> -0.077998358
A18: 200812 | B18: =data!D13-data!H13 -> -0.063150511 | C18: =data!E13-data!H13 -> -0.041009663 | E18: =data!G13-data!H13 -> 0.0068911469
... A78: 201312 | B78: =data!D73-data!H73 -> -0.0069178172 | C78: =data!E73-data!H73 -> -0.033934437 | E78: =data!G73-data!H73 -> 0.023289474
A80: Question 2 | B80: Correlation
B82: S&P | C82: =data!$D$1 -> Bank of America | D82: =data!$E$1 -> P&G
A83: S&P | B83: 1
A84: =data!$D$1 -> Bank of America | B84: =CORREL(data!D2:D73,data!G2:G73) -> 0.67597107 | C84: 1
A85: =data!$E$1 -> P&G | B85: =CORREL(data!E2:E73,data!G2:G73) -> 0.52047915 | C85: =CORREL(data!D2:D73,data!E2:E73) -> 0.42150379 | D85: 1
A87: Question 3 | B87: Estimation of the CAPM
A88: =data!$D$1 -> Bank of America
A89: alpha | B89: =INTERCEPT(B7:B78,E7:E78) -> -0.0085322134
A90: beta | B90: =SLOPE(B7:B78,E7:E78) -> 1.0460664
A92: =data!$E$1 -> P&G
A93: alpha | B93: =INTERCEPT(C7:C78,E7:E78) -> 0.0022917773
A94: beta | B94: =SLOPE(C7:C78,E7:E78) -> 0.47416415
A96: Question 4 | B96: Answer the question in the following spaces.
A97: P& G has a higher beta of 3.185879 compared to Bank of America of 1.0460664. P&G stock is considered a defensive stock since it provides consistent dividends and stable earnings regardless of the stock market.
A102: Question 5
A103: Estimate the CAPM for the recession period: from Jan. 2008 to Jun. 2009
A104: =data!$D$1 -> Bank of America | D104: =data!$E$1 -> P&G
A105: alpha | B105: =INTERCEPT(B7:B24,$E$7:$E$24) -> 0.010424921 | D105: alpha | E105: =INTERCEPT(C7:C24,$E$7:$E$24) -> -0.0050537831
A106: beta | B106: =SLOPE(B7:B24,$E$7:$E$24) -> 1.3566151 | D106: beta | E106: =SLOPE(C7:C24,$E$7:$E$24) -> 0.51374412
A108: Estimate the CAPM for the normal period: from Jul. 2009 to Dec. 2013
A109: =data!$D$1 -> Bank of America | D109: =data!$E$1 -> P&G
A110: alpha | B110: =INTERCEPT(B25:B78,$E$25:$E$78) -> -0.0088183645 | D110: alpha | E110: =INTERCEPT(C25:C78,$E$25:$E$78) -> 0.0065828306
A111: beta | B111: =SLOPE(B25:B78,$E$25:$E$78) -> 0.79456418 | D111: beta | E111: =SLOPE(C25:C78,$E$25:$E$78) -> 0.35888496
A113: Question 6 | B113: Answer the question in the following spaces.
A114: Bank of America stocks beta fluctuates on the two sub-periods from 1.3566151 in 1st sub-period to 0.7945642 in 2nd sub-period, this clearly shows that this is a cyclical stock.
A118: P&G stock fluctuates minimally compared to Bank of America stock i.e. from 0.51248 in 1st sub-period to 0.358827 in 2nd sub-period. This is a clear indication that P&G stock is a defensive stock since it performs better in recession.

Sheet data
A1: Date | B1: Apple | C1: Coca-Cola | D1: Bank of America | E1: P&G | G1: S&P 500 | H1: T-bill | I1: recession
A2: 200801 | B2: -0.38073308 | C2: -0.03938375 | D2: 0.035599802 | E2: -0.11536867 | G2: -0.063113864 | H2: 0.0021 | I2: 1
A3: 200802 | B3: -0.079464276 | C3: -0.009194537 | D3: -0.045702751 | E3: 0.016584508 | G3: -0.03537974 | H3: 0.0013 | I3: 1
A4: 200803 | B4: 0.13786158 | C4: 0.04039717 | D4: -0.020473986 | E4: 0.057116608 | G4: -0.005977453 | H4: 0.0017 | I4: 1
A5: 200804 | B5: 0.19243293 | C5: -0.020546651 | D5: 0.0029675235 | E5: -0.044056085 | G5: 0.046450952 | H5: 0.0017 | I5: 1
A6: 200805 | B6: 0.081655385 | C6: -0.027729327 | D6: -0.042887662 | E6: -0.0093149238 | G6: 0.010617615 | H6: 0.0017 | I6: 1
A7: 200806 | B7: -0.1197983 | C7: -0.096742845 | D7: -0.15375414 | E7: -0.082657667 | G7: -0.089883554 | H7: 0.0017 | I7: 1
A8: 200807 | B8: -0.052035478 | C8: 0.0039105226 | D8: 0.14776896 | E8: 0.073990759 | G8: -0.0099082965 | H8: 0.0015 | I8: 1
A9: 200808 | B9: 0.064440145 | C9: 0.011006746 | D9: -0.023877327 | E9: 0.069694661 | G9: 0.012116759 | H9: 0.0012 | I9: 1
A10: 200809 | B10: -0.39981814 | C10: 0.01543637 | D10: 0.050749538 | E10: -0.0011473779 | G10: -0.095180765 | H10: 0.0015 | I10: 1
A11: 200810 | B11: -0.054884056 | C11: -0.16824862 | D11: -0.15218858 | E11: -0.076771665 | G11: -0.18563647 | H11: 0.0008 | I11: 1
A12: 200811 | B12: -0.14928274 | C12: 0.061825757 | D12: -0.17242344 | E12: 0.0034250334 | G12: -0.077798358 | H12: 0.0002 | I12: 1
A13: 200812 | B13: -0.082284431 | C13: -0.017726973 | D13: -0.062250511 | E13: -0.040109663 | G13: 0.0077911469 | H13: 0.0009 | I13: 1
... A73: 201312 | B73: 0.014684172 | C73: 0.034467057 | D73: -0.0069178172 | E73: -0.033934437 | G73: 0.023289474 | H73: 0 | I73: 0
